BEGIN:VCALENDAR
PRODID:-//Microsoft Corporation//Outlook 12.0 MIMEDIR//EN
VERSION:2.0
CALSCALE:GREGORIAN
BEGIN:VEVENT
UID: 913f9c16-6635-4b73-a993-41c8aaa4b232
SUMMARY:PL 5. kl nutimäng (valikõpilased)
DTSTAMP:20260428
DTSTART:20260428
DTEND:20260429
DURATION:P1D
LOCATION:
DESCRIPTION: <p><span class="rHI1u allowTextSelection" title="5. klasside nutimäng Pärnu raamatukogus ja muuseumis  (5. klasside valik õpilased, Sirje Tu)" aria-label="Title">5. klasside nutimäng Pärnu Keskraamatukogus ja Pärnu Muuseumis (5. klasside valikõpilased)</span></p><div class="VSXvP allowTextSelection"><div class="sPRuT">&nbsp;</div></div><p><strong>Link: </strong>https://www.pk.edu.ee/et/sundmuste-kalender/pl-5-kl-nutimang-valikopilased</p><p><strong>Hind: </strong></p>
STATUS:CONFIRMED
SEQUENCE:3
X-ALT-DESC;FMTTYPE=text/html:<p><span class="rHI1u allowTextSelection" title="5. klasside nutimäng Pärnu raamatukogus ja muuseumis  (5. klasside valik õpilased, Sirje Tu)" aria-label="Title">5. klasside nutimäng Pärnu Keskraamatukogus ja Pärnu Muuseumis (5. klasside valikõpilased)</span></p><div class="VSXvP allowTextSelection"><div class="sPRuT">&nbsp;</div></div><p><strong>Link: </strong>https://www.pk.edu.ee/et/sundmuste-kalender/pl-5-kl-nutimang-valikopilased</p><p><strong>Hind: </strong></p>
X-MICROSOFT-CDO-BUSYSTATUS:OOF
X-MICROSOFT-CDO-IMPORTANCE:1
X-MICROSOFT-DISALLOW-COUNTER:FALSE
X-MS-OLK-ALLOWEXTERNCHECK:TRUE
X-MS-OLK-CONFTYPE:0
X-MICROSOFT-CDO-ALLDAYEVENT:1
X-MICROSOFT-MSNCALENDAR-ALLDAYEVENT:1
END:VEVENT
END:VCALENDAR