BEGIN:VCALENDAR
PRODID:-//Microsoft Corporation//Outlook 12.0 MIMEDIR//EN
VERSION:2.0
CALSCALE:GREGORIAN
BEGIN:VEVENT
UID: 8344f980-0e56-4a42-b7e3-ec931fdfcb42
SUMMARY:9. klasside filmimine
DTSTAMP:20260423T100000
DTSTART:20260423T100000
DTEND:20260423T114500
LOCATION:
DESCRIPTION: <p><span class="rHI1u allowTextSelection" aria-label="Title">9. klasside filmimine</span></p><p><strong>Link: </strong>https://www.pk.edu.ee/et/sundmuste-kalender/9-klasside-filmimine</p><p><strong>Hind: </strong></p>
STATUS:CONFIRMED
SEQUENCE:3
X-ALT-DESC;FMTTYPE=text/html:<p><span class="rHI1u allowTextSelection" aria-label="Title">9. klasside filmimine</span></p><p><strong>Link: </strong>https://www.pk.edu.ee/et/sundmuste-kalender/9-klasside-filmimine</p><p><strong>Hind: </strong></p>
X-MICROSOFT-CDO-BUSYSTATUS:OOF
X-MICROSOFT-CDO-IMPORTANCE:1
X-MICROSOFT-DISALLOW-COUNTER:FALSE
X-MS-OLK-ALLOWEXTERNCHECK:TRUE
X-MS-OLK-CONFTYPE:0
X-MICROSOFT-CDO-ALLDAYEVENT:
X-MICROSOFT-MSNCALENDAR-ALLDAYEVENT:
END:VEVENT
END:VCALENDAR