BEGIN:VCALENDAR
PRODID:-//Microsoft Corporation//Outlook 12.0 MIMEDIR//EN
VERSION:2.0
CALSCALE:GREGORIAN
BEGIN:VEVENT
UID: c3a551a7-191f-4b16-87b5-9d2344c7c92a
SUMMARY:PL robootikapäev (3. kl)
DTSTAMP:20260424
DTSTART:20260424
DTEND:20260425
DURATION:P1D
LOCATION:
DESCRIPTION: <p><span class="rHI1u allowTextSelection" title="Ülelinnaline 3. klasside robootikapäev Pärnu ÜG-s (Kadri H, Laura, Dea, Anu ja valitud õpilased)" aria-label="Title">Ülelinnaline 3. klasside robootikapäev Pärnu ÜG-s</span></p><p><strong>Link: </strong>https://www.pk.edu.ee/et/sundmuste-kalender/pl-robootikapaev-3-kl</p><p><strong>Hind: </strong></p>
STATUS:CONFIRMED
SEQUENCE:3
X-ALT-DESC;FMTTYPE=text/html:<p><span class="rHI1u allowTextSelection" title="Ülelinnaline 3. klasside robootikapäev Pärnu ÜG-s (Kadri H, Laura, Dea, Anu ja valitud õpilased)" aria-label="Title">Ülelinnaline 3. klasside robootikapäev Pärnu ÜG-s</span></p><p><strong>Link: </strong>https://www.pk.edu.ee/et/sundmuste-kalender/pl-robootikapaev-3-kl</p><p><strong>Hind: </strong></p>
X-MICROSOFT-CDO-BUSYSTATUS:OOF
X-MICROSOFT-CDO-IMPORTANCE:1
X-MICROSOFT-DISALLOW-COUNTER:FALSE
X-MS-OLK-ALLOWEXTERNCHECK:TRUE
X-MS-OLK-CONFTYPE:0
X-MICROSOFT-CDO-ALLDAYEVENT:1
X-MICROSOFT-MSNCALENDAR-ALLDAYEVENT:1
END:VEVENT
END:VCALENDAR